BEGIN:VCALENDAR
VERSION:2.0
PRODID:-//Normandale Lake Office Park - ECPv6.15.17//NONSGML v1.0//EN
CALSCALE:GREGORIAN
METHOD:PUBLISH
X-WR-CALNAME:Normandale Lake Office Park
X-ORIGINAL-URL:https://normandale.com
X-WR-CALDESC:Events for Normandale Lake Office Park
REFRESH-INTERVAL;VALUE=DURATION:PT1H
X-Robots-Tag:noindex
X-PUBLISHED-TTL:PT1H
BEGIN:VTIMEZONE
TZID:America/Chicago
BEGIN:DAYLIGHT
TZOFFSETFROM:-0600
TZOFFSETTO:-0500
TZNAME:CDT
DTSTART:20220313T080000
END:DAYLIGHT
BEGIN:STANDARD
TZOFFSETFROM:-0500
TZOFFSETTO:-0600
TZNAME:CST
DTSTART:20221106T070000
END:STANDARD
BEGIN:DAYLIGHT
TZOFFSETFROM:-0600
TZOFFSETTO:-0500
TZNAME:CDT
DTSTART:20230312T080000
END:DAYLIGHT
BEGIN:STANDARD
TZOFFSETFROM:-0500
TZOFFSETTO:-0600
TZNAME:CST
DTSTART:20231105T070000
END:STANDARD
BEGIN:DAYLIGHT
TZOFFSETFROM:-0600
TZOFFSETTO:-0500
TZNAME:CDT
DTSTART:20240310T080000
END:DAYLIGHT
BEGIN:STANDARD
TZOFFSETFROM:-0500
TZOFFSETTO:-0600
TZNAME:CST
DTSTART:20241103T070000
END:STANDARD
END:VTIMEZONE
BEGIN:VEVENT
DTSTART;VALUE=DATE:20230614
DTEND;VALUE=DATE:20230615
DTSTAMP:20260423T100741
CREATED:20220803T170522Z
LAST-MODIFIED:20230518T165030Z
UID:164508-1686700800-1686787199@normandale.com
SUMMARY:3K Walk/5K Run
DESCRIPTION:Join us for the annual 3K Fun Walk or the annual 5K Fun Run! Please read the information below carefully! \n3K Walk\nThe start time for the walk will be 11:15 am.\nCheck-in will begin at 10:45 am.\nThe course for the walkers will remain the same as past years. Once you cross the bridge and head down the path you will turn going west towards Chalet Road. The course can be found HERE.\n3K Walk Registration \n5K Run\nThe start time for the run will be 11:30 am.\nCheck-in will begin at 11:00 am.\nThe course for the runners will remain the same as past years. Once you cross the bridge and head down the path you will continue straight ahead\, going east towards Normandale Blvd. The course can be found HERE.\n5K Run Registration
URL:https://normandale.com/event/3k-walk-5k-run/
LOCATION:8300/8400 Pond
ORGANIZER;CN="Lisa Simonson":MAILTO:lisa.simonson@cushwake.com
END:VEVENT
END:VCALENDAR